BEGIN:VCALENDAR
VERSION:2.0
PRODID:-//Waldorf Woodlands - ECPv6.15.16//NONSGML v1.0//EN
CALSCALE:GREGORIAN
METHOD:PUBLISH
X-ORIGINAL-URL:https://waldorfwoodlands.co.ke
X-WR-CALDESC:Events for Waldorf Woodlands
REFRESH-INTERVAL;VALUE=DURATION:PT1H
X-Robots-Tag:noindex
X-PUBLISHED-TTL:PT1H
BEGIN:VTIMEZONE
TZID:Europe/Moscow
BEGIN:STANDARD
TZOFFSETFROM:+0300
TZOFFSETTO:+0300
TZNAME:MSK
DTSTART:20250101T000000
END:STANDARD
END:VTIMEZONE
BEGIN:VEVENT
DTSTART;TZID=Europe/Moscow:20260228T090000
DTEND;TZID=Europe/Moscow:20260228T130000
DTSTAMP:20260421T215053
CREATED:20260214T084541Z
LAST-MODIFIED:20260214T084849Z
UID:1521-1772269200-1772283600@waldorfwoodlands.co.ke
SUMMARY:Open Day 28th February\, 2026
DESCRIPTION:We would like to invite you to our OPEN DAY  on Saturday 28th February\, 2026 from 9:00am – 1:00pm at our premises No. 50\, Nandi Road\, Karen.\nCome and experience Waldorf Education by touring our campus\, visiting classrooms\, asking questions and learning more about our unique curriculum in Waldorf Education. Learn about our core subjects\, the academic blocks\, artistic specials\,\nour overall curriculum  offered to students from ages 18months to 13years.\n Come and understand how we prepare your children for the future\n#opening #schoolskaren #waldorfschoolkaren #primaryschoolkenya #waldorfwoodlands\n#schoolskenya #lcreativelearning #nairobikindergarten #openday
URL:https://waldorfwoodlands.co.ke/calendar/open-day-28th-february-2026/
LOCATION:Waldorf Woodlands School\, Nandi\, Karen\, Nairobi\, Kenya
CATEGORIES:Open Day
END:VEVENT
END:VCALENDAR