BEGIN:VCALENDAR
VERSION:2.0
PRODID:-//Waldorf Woodlands - ECPv6.15.16//NONSGML v1.0//EN
CALSCALE:GREGORIAN
METHOD:PUBLISH
X-WR-CALNAME:Waldorf Woodlands
X-ORIGINAL-URL:https://waldorfwoodlands.co.ke
X-WR-CALDESC:Events for Waldorf Woodlands
REFRESH-INTERVAL;VALUE=DURATION:PT1H
X-Robots-Tag:noindex
X-PUBLISHED-TTL:PT1H
BEGIN:VTIMEZONE
TZID:UTC
BEGIN:STANDARD
TZOFFSETFROM:+0000
TZOFFSETTO:+0000
TZNAME:UTC
DTSTART:20190101T000000
END:STANDARD
END:VTIMEZONE
BEGIN:VEVENT
DTSTART;VALUE=DATE:20201204
DTEND;VALUE=DATE:20201205
DTSTAMP:20260422T222003
CREATED:20210108T110031Z
LAST-MODIFIED:20210108T110031Z
UID:1245-1607040000-1607126399@waldorfwoodlands.co.ke
SUMMARY:End of term
DESCRIPTION:
URL:https://waldorfwoodlands.co.ke/calendar/end-of-term/
END:VEVENT
BEGIN:VEVENT
DTSTART;TZID=UTC:20201019T080000
DTEND;TZID=UTC:20201025T170000
DTSTAMP:20260422T222003
CREATED:20210108T105946Z
LAST-MODIFIED:20210108T105946Z
UID:1243-1603094400-1603645200@waldorfwoodlands.co.ke
SUMMARY:Half term
DESCRIPTION:
URL:https://waldorfwoodlands.co.ke/calendar/half-term/
END:VEVENT
BEGIN:VEVENT
DTSTART;VALUE=DATE:20200902
DTEND;VALUE=DATE:20200903
DTSTAMP:20260422T222003
CREATED:20210108T105818Z
LAST-MODIFIED:20210108T105818Z
UID:1241-1599004800-1599091199@waldorfwoodlands.co.ke
SUMMARY:School opens
DESCRIPTION:New Class 1
URL:https://waldorfwoodlands.co.ke/calendar/school-opens-2/
END:VEVENT
BEGIN:VEVENT
DTSTART;VALUE=DATE:20200901
DTEND;VALUE=DATE:20200902
DTSTAMP:20260422T222003
CREATED:20210108T105717Z
LAST-MODIFIED:20210108T105717Z
UID:1239-1598918400-1599004799@waldorfwoodlands.co.ke
SUMMARY:School opens
DESCRIPTION:
URL:https://waldorfwoodlands.co.ke/calendar/school-opens/
END:VEVENT
END:VCALENDAR